BEGIN:VCALENDAR
VERSION:2.0
PRODID:-//InSo - ECPv6.15.20//NONSGML v1.0//EN
CALSCALE:GREGORIAN
METHOD:PUBLISH
X-WR-CALNAME:InSo
X-ORIGINAL-URL:https://insousa.com
X-WR-CALDESC:Events for InSo
REFRESH-INTERVAL;VALUE=DURATION:PT1H
X-Robots-Tag:noindex
X-PUBLISHED-TTL:PT1H
BEGIN:VTIMEZONE
TZID:UTC
BEGIN:STANDARD
TZOFFSETFROM:+0000
TZOFFSETTO:+0000
TZNAME:UTC
DTSTART:20250101T000000
END:STANDARD
END:VTIMEZONE
BEGIN:VEVENT
DTSTART;TZID=UTC:20260418T213000
DTEND;TZID=UTC:20260418T213000
DTSTAMP:20260420T171220
CREATED:20200428T132832Z
LAST-MODIFIED:20260328T103256Z
UID:1200-1776547800-1776547800@insousa.com
SUMMARY:Fleetwood X – Fleetwood Mac Tribute
DESCRIPTION:Fleetwood X – Fleetwood Mac Tribute is a captivating live performance celebrating the legendary music and timeless influence of Fleetwood Mac. This tribute event brings the band’s iconic sound to life with powerful vocals\, rich harmonies\, and authentic instrumentation. From unforgettable classics to fan-favorite anthems\, the show delivers an immersive musical experience that honors the spirit and artistry of one of rock’s most celebrated bands. \nDate:\nApril 18\, 2026 \nTime:\nDoors Open at 8:30 PM\, Show Starts at 9:30 PM \nLocation:\n3165 Regent Blvd\, Irving\, TX\, United States\, Texas 75063
URL:https://insousa.com/event/robert-stones-trance-party/
LOCATION:3165 Regent Blvd\, Irving\, TX\, United States\, Texas 75063
CATEGORIES:Upcoming
ATTACH;FMTTYPE=image/jpeg:https://insousa.com/wp-content/uploads/2020/04/electwood.jpg
END:VEVENT
BEGIN:VEVENT
DTSTART;TZID=UTC:20260411T213000
DTEND;TZID=UTC:20260411T213000
DTSTAMP:20260420T171220
CREATED:20200428T132125Z
LAST-MODIFIED:20260328T103218Z
UID:1194-1775943000-1775943000@insousa.com
SUMMARY:Escape – A Celebration Of The Music Of Journey
DESCRIPTION:“Escape – A Celebration Of The Music Of Journey” is a powerful tribute event honoring one of the greatest rock bands of all time. Experience the energy\, passion\, and unforgettable sound that made Journey a global sensation. From timeless ballads to high-energy anthems\, this event delivers a live musical experience that captures the spirit and legacy of the band. Fans can expect an electrifying performance filled with nostalgia\, powerful vocals\, and iconic hits that defined generations. \nDate:\nApril 11\, 2026 \nTime:\nDoors Open at 8:30 PM\, Show Starts at 9:30 PM \nLocation:\n3165 Regent Blvd\, Irving\, TX\, United States\, Texas 75063
URL:https://insousa.com/event/lonely-heart-dance-party/
LOCATION:3165 Regent Blvd\, Irving\, TX\, United States\, Texas 75063
CATEGORIES:Upcoming
ATTACH;FMTTYPE=image/jpeg:https://insousa.com/wp-content/uploads/2020/04/escape.jpg
END:VEVENT
BEGIN:VEVENT
DTSTART;TZID=UTC:20260410T213000
DTEND;TZID=UTC:20260410T213000
DTSTAMP:20260420T171220
CREATED:20211130T153704Z
LAST-MODIFIED:20260312T102148Z
UID:19965-1775856600-1775856600@insousa.com
SUMMARY:Totally 90’s
DESCRIPTION:Step back into the golden era of music and pop culture at “Totally 90’s.” This exciting themed event celebrates the unforgettable hits\, fashion\, and energy of the 90’s. Enjoy a nostalgic experience filled with great music\, vibrant vibes\, and memorable moments for fans of all ages. \nDate:\nApril 10\, 2026 \nTime:\nDoors Open at 8:30 PM\, Show Starts at 9:30 PM \nLocation:\n3165 Regent Blvd\, Irving\, TX\, United States\, Texas 75063 \n\nBuy Tickets
URL:https://insousa.com/event/retro-disco-party/
LOCATION:3165 Regent Blvd\, Irving\, TX\, United States\, Texas 75063
CATEGORIES:Upcoming
ATTACH;FMTTYPE=image/jpeg:https://insousa.com/wp-content/uploads/2021/11/total-90.jpg
END:VEVENT
BEGIN:VEVENT
DTSTART;TZID=UTC:20260404T213000
DTEND;TZID=UTC:20260404T213000
DTSTAMP:20260420T171220
CREATED:20200428T133115Z
LAST-MODIFIED:20260328T103339Z
UID:1204-1775338200-1775338200@insousa.com
SUMMARY:1999 – The Legacy of Prince
DESCRIPTION:“1999 – The Legacy of Prince” is a powerful tribute event celebrating the music\, creativity\, and cultural influence of one of the most iconic artists in history. This unforgettable experience brings together passionate performers to honor Prince’s timeless hits and legendary stage presence. \nGuests will enjoy an immersive musical journey featuring electrifying performances\, vibrant production\, and the unforgettable sound that defined an era. Whether you are a lifelong fan or discovering the magic for the first time\, this event promises energy\, nostalgia\, and pure musical brilliance. \nJoin us for a celebration of artistry\, innovation\, and the lasting legacy of a true legend. \n\nDate:April 4\, 2026\nTime: Doors Open at 8:30 PM\, Show Starts at 9:30 PM\nLocation: 3165 Regent Blvd\, Irving\, TX\, United States\, Texas 75063
URL:https://insousa.com/event/dj-legends-return/
LOCATION:3165 Regent Blvd\, Irving\, TX\, United States\, Texas 75063
CATEGORIES:Upcoming
ATTACH;FMTTYPE=image/jpeg:https://insousa.com/wp-content/uploads/2026/02/legacy-prince.jpg
END:VEVENT
BEGIN:VEVENT
DTSTART;TZID=UTC:20260321T213000
DTEND;TZID=UTC:20260321T213000
DTSTAMP:20260420T171220
CREATED:20211130T152421Z
LAST-MODIFIED:20260312T102129Z
UID:19962-1774128600-1774128600@insousa.com
SUMMARY:King George – George Strait Tribute
DESCRIPTION:Join us on Saturday\, March 21 at 7:30 PM for King George – George Strait Tribute\, a special evening honoring the legendary King of Country\, George Strait. Experience a live tribute performance featuring the timeless hits and authentic country sound that made George Strait a true icon. From heartfelt ballads to upbeat country classics\, enjoy a night filled with great music\, powerful vocals\, and classic country energy in an unforgettable live show. \n\nDate: Saturday\, March 21\nTime: Doors Open at 8:30 PM\, Show Starts at 9:30 PM\nLocation: 3165 Regent Blvd\, Irving\, TX 75063\, United States\nEvent Type: Live Country Tribute Show\nFeaturing: The Music of George Strait\n\n\nBuy Tickets
URL:https://insousa.com/event/king-george-george-strait-tribute/
LOCATION:3165 Regent Blvd\, Irving\, TX\, United States\, Texas 75063
CATEGORIES:Upcoming
ATTACH;FMTTYPE=image/jpeg:https://insousa.com/wp-content/uploads/2021/11/tribute.jpg
END:VEVENT
BEGIN:VEVENT
DTSTART;TZID=UTC:20260320T213000
DTEND;TZID=UTC:20260320T213000
DTSTAMP:20260420T171220
CREATED:20211125T100140Z
LAST-MODIFIED:20260312T102301Z
UID:19011-1774042200-1774042200@insousa.com
SUMMARY:Buffett Beach – Jimmy Buffett Tribute
DESCRIPTION:Escape to island vibes on Friday\, March 20 at 7:30 PM with Buffett Beach – Jimmy Buffett Tribute. Get ready for a tropical-inspired evening filled with the laid-back sounds and classic hits of Jimmy Buffett. From “Margaritaville” to “Cheeseburger in Paradise\,” enjoy a fun\, high-energy performance that brings beach party atmosphere and coastal rock spirit to the stage. Gather your friends\, relax\, and experience a night of great music and good vibes. \n\nDate: Friday\, March 20\nTime: Doors Open at 8:30 PM\, Show Starts at 9:30 PM\nLocation: 3165 Regent Blvd\, Irving\, TX 75063\, United States\nEvent Type: Live Tribute Show\nFeaturing: The Music of Jimmy Buffett\n\n\nBuy Tickets
URL:https://insousa.com/event/buffett-beach-jimmy-buffett-tribute/
LOCATION:3165 Regent Blvd\, Irving\, TX\, United States\, Texas 75063
CATEGORIES:Upcoming
ATTACH;FMTTYPE=image/jpeg:https://insousa.com/wp-content/uploads/2021/11/buffet-beach.jpg
END:VEVENT
BEGIN:VEVENT
DTSTART;TZID=UTC:20260314T213000
DTEND;TZID=UTC:20260314T213000
DTSTAMP:20260420T171220
CREATED:20211125T100426Z
LAST-MODIFIED:20260312T100715Z
UID:19018-1773523800-1773523800@insousa.com
SUMMARY:Antebellum – A Tribute to Lady A
DESCRIPTION:Join us on Saturday\, March 14 at 7:30 PM for Antebellum – A Tribute to Lady A\, a special evening celebrating the chart-topping country hits of Lady A. Experience a live performance filled with powerful vocals\, heartfelt lyrics\, and the unforgettable harmonies that made Lady A a country music favorite. From romantic ballads to energetic anthems\, enjoy a night of authentic country sound and lively entertainment. \n\nDate: Saturday\, March 14\nTime: Doors Open at 8:30 PM\, Show Starts at 9:30 PM\nLocation: 3165 Regent Blvd\, Irving\, TX 75063\, United States\nEvent Type: Live Country Tribute Show\nFeaturing: The Hits of Lady A
URL:https://insousa.com/event/antebellum-a-tribute-to-lady-a/
LOCATION:3165 Regent Blvd\, Irving\, TX\, United States\, Texas 75063
CATEGORIES:Upcoming
ATTACH;FMTTYPE=image/jpeg:https://insousa.com/wp-content/uploads/2021/11/antebellma.jpg
ORGANIZER;CN="Ashton Porter":MAILTO:info@example.com
END:VEVENT
BEGIN:VEVENT
DTSTART;TZID=UTC:20260313T213000
DTEND;TZID=UTC:20260313T213000
DTSTAMP:20260420T171220
CREATED:20240830T102442Z
LAST-MODIFIED:20260312T095113Z
UID:38653-1773437400-1773437400@insousa.com
SUMMARY:Cherry Bomb – A Tribute to the Women of Rock
DESCRIPTION:Get ready for an electrifying night of powerhouse vocals and legendary rock anthems at Cherry Bomb – A Tribute to the Women of Rock. Join us on Friday\, March 13 at 7:30 PM for a high-energy tribute celebrating the iconic female artists who shaped rock history. From classic hits to unforgettable stage performances\, experience the music of rock’s most influential women brought to life in an exciting live show. Don’t miss this dynamic evening filled with bold sound\, vibrant energy\, and timeless rock favorites. \n\nDate: Friday\, March 13\nTime: Doors Open at 8:30 PM\, Show Starts at 9:30 PM\nEvent Type: Live Rock Tribute Show\nFeaturing: Iconic Women of Rock\nLocation: 3165 Regent Blvd\, Irving\, TX 75063\, United States\n\n\nBuy Tickets
URL:https://insousa.com/event/cherry-bomb-a-tribute-to-the-women-of-rock/
LOCATION:3165 Regent Blvd\, Irving\, TX\, United States\, Texas 75063
CATEGORIES:Upcoming
ATTACH;FMTTYPE=image/jpeg:https://insousa.com/wp-content/uploads/2024/08/cherry-bomb.jpg
ORGANIZER;CN="Ashton Porter":MAILTO:info@example.com
END:VEVENT
BEGIN:VEVENT
DTSTART;TZID=UTC:20260307T203000
DTEND;TZID=UTC:20260307T203000
DTSTAMP:20260420T171220
CREATED:20240830T103715Z
LAST-MODIFIED:20260228T093655Z
UID:38655-1772915400-1772915400@insousa.com
SUMMARY:Desperado – Eagle’s Tribute
DESCRIPTION:Get ready for an unforgettable night of classic rock at Desperado – Eagle’s Tribute. Experience a high-energy tribute performance celebrating the timeless music of the Eagles. From “Hotel California” to “Take It Easy\,” enjoy all the legendary hits performed live with authentic sound and incredible stage presence. Bring your friends and relive the golden era of rock in an exciting live atmosphere. \n\nDate: Saturday\, March 7\nTime: 8:30 PM\nLocation: 3165 Regent Blvd\, Irving\, TX 75063\, United States\nEvent Type: Live Music Tribute Show\nFeaturing: Classic hits of the Eagles\nHighlights: High-energy performance\, nostalgic rock experience\, live band atmosphere\n\n\n  Free Entry • First-Come\, First-Served Seating
URL:https://insousa.com/event/desperado-eagles-tribute/
LOCATION:3165 Regent Blvd\, Irving\, TX\, United States\, Texas 75063
CATEGORIES:Upcoming
ATTACH;FMTTYPE=image/jpeg:https://insousa.com/wp-content/uploads/2024/08/Desperado-–-Eagles-Tribute.jpg
END:VEVENT
BEGIN:VEVENT
DTSTART;TZID=UTC:20260306T203000
DTEND;TZID=UTC:20260306T203000
DTSTAMP:20260420T171220
CREATED:20240830T104005Z
LAST-MODIFIED:20260228T093543Z
UID:38654-1772829000-1772829000@insousa.com
SUMMARY:Totally 80's Night
DESCRIPTION:Step back in time and relive the magic of the 80’s at Totally 80’s Night! Join us on Friday\, March 6 at 8:30 PM at Las Colinas Club\, Kitchen\, Bar in Irving\, Texas\, for an unforgettable evening packed with your favorite hits from the decade of big hair\, neon lights\, and legendary music. Totally 80’s will be performing all the iconic songs that defined a generation\, creating the perfect atmosphere to dance\, sing along\, and enjoy a high-energy night out. Gather your friends\, dress in your best retro style\, and get ready for a fun-filled night of nostalgia\, great music\, and amazing vibes. \n\nDate: Friday\, March 6\nTime: 8:30 PM\nLocation:3165 Regent Blvd\, Irving\, TX 75063\, United States\nEvent Type: Live 80’s Tribute Show\n\n\n  Free Entry • First-Come\, First-Served Seating
URL:https://insousa.com/event/totally-80s-night/
LOCATION:3165 Regent Blvd\, Irving\, TX\, United States\, Texas 75063
CATEGORIES:Upcoming
ATTACH;FMTTYPE=image/jpeg:https://insousa.com/wp-content/uploads/2024/08/Totally-80s-Night.jpg
END:VEVENT
END:VCALENDAR